BEGIN:VCALENDAR
VERSION:2.0
PRODID:-//eventon.com NONSGML v1.0//EN
CALSCALE:GREGORIAN
METHOD:PUBLISH
BEGIN:VEVENT
UID:69e51589a0cc0
DTSTAMP:20260419T174857Z
DTSTART:20250927
DTEND:20250928
LOCATION:
SUMMARY:Speuld
DESCRIPTION:Speuld\nhttps://redimpact.nl/events/speuld/
URL:https://redimpact.nl/events/speuld/
END:VEVENT
END:VCALENDAR